BEGIN:VCALENDAR
VERSION:2.0
PRODID:-//Дворец на културата и спорта - Варна - ECPv6.15.9//NONSGML v1.0//EN
CALSCALE:GREGORIAN
METHOD:PUBLISH
X-WR-CALNAME:Дворец на културата и спорта - Варна
X-ORIGINAL-URL:https://palaceofvarna.com
X-WR-CALDESC:Събития за Дворец на културата и спорта - Варна
REFRESH-INTERVAL;VALUE=DURATION:PT1H
X-Robots-Tag:noindex
X-PUBLISHED-TTL:PT1H
BEGIN:VTIMEZONE
TZID:Europe/Helsinki
BEGIN:DAYLIGHT
TZOFFSETFROM:+0200
TZOFFSETTO:+0300
TZNAME:EEST
DTSTART:20250330T010000
END:DAYLIGHT
BEGIN:STANDARD
TZOFFSETFROM:+0300
TZOFFSETTO:+0200
TZNAME:EET
DTSTART:20251026T010000
END:STANDARD
BEGIN:DAYLIGHT
TZOFFSETFROM:+0200
TZOFFSETTO:+0300
TZNAME:EEST
DTSTART:20260329T010000
END:DAYLIGHT
BEGIN:STANDARD
TZOFFSETFROM:+0300
TZOFFSETTO:+0200
TZNAME:EET
DTSTART:20261025T010000
END:STANDARD
BEGIN:DAYLIGHT
TZOFFSETFROM:+0200
TZOFFSETTO:+0300
TZNAME:EEST
DTSTART:20270328T010000
END:DAYLIGHT
BEGIN:STANDARD
TZOFFSETFROM:+0300
TZOFFSETTO:+0200
TZNAME:EET
DTSTART:20271031T010000
END:STANDARD
END:VTIMEZONE
BEGIN:VEVENT
DTSTART;TZID=Europe/Helsinki:20260707T210000
DTEND;TZID=Europe/Helsinki:20260707T210000
DTSTAMP:20260424T234109
CREATED:20260406T094159Z
LAST-MODIFIED:20260406T094159Z
UID:10002013-1783458000-1783458000@palaceofvarna.com
SUMMARY:Вагнер - Гала
DESCRIPTION:„Вагнер гала“\nс емблематични фрагменти от операта „Валкюра“ \nДиригент: Светослав БорисовРежисьор: Вера НемироваСценограф: Харалд ТорКостюмограф: Йене Килиан \nВ ролите:Зиглинде – Надя Стефанова – гост-солистХундинг – Деян ВачковВотан – Олафур Зигурдарсон – гост-солистБрюнхилде – Йорданка Дерилова – гост-солист \nВалкюри: Димитринка Райчева\, Жана Костова\, Илина Михайлова\, Ирина Жекова\, Лилия Илиева-Михайлова\, Силвия Ангелова\, Галина Великова\, Величка Минкова \nОркестър на Държавна опера Варна \n„Вагнер гала“ предлага среща с монументалния свят на Рихард Вагнер чрез подбрани фрагменти от една от най-внушителните му творби – „Валкюра“. Концертът разкрива силата\, драматизма и емоционалната дълбочина на Вагнеровата музика\, в която героичните образи и човешките конфликти се преплитат в мащабна звукова картина. \nПод диригентството на Светослав Борисов оркестърът на Държавна опера Варна пресъздава богатството и мощта на тази изключителна партитура\, изпълнена с напрежение\, контрасти и внушителен оркестров размах. Музиката на Вагнер завладява със своята плътност и драматична сила\, превръщайки всяка сцена в силно въздействащо преживяване. \nРежисьорският прочит на Вера Немирова изгражда визуално наситена и изразителна сценична среда\, която подчертава героизма\, вътрешните противоречия и съдбовните избори на персонажите. Подбраните моменти от първо действие и най-силните епизоди от трето действие разкриват едновременно епичния мащаб и дълбоката човешка драма\, заложени във „Валкюра“. \nС участието на изявени солисти и на внушителния състав на валкюрите\, този гала спектакъл обещава среща с една от най-величествените страници в оперната литература. „Вагнер гала“ е събитие\, което ще потопи публиката в магията на Вагнеровото изкуство и ще я срещне с музика\, оставила трайна следа в историята на световната опера.
URL:https://palaceofvarna.com/event/vagner-gala/
LOCATION:Летен Театър – Варна\, Морска градина\, Варна\, Bulgaria
CATEGORIES:Културни събития,Летен театър
ATTACH;FMTTYPE=image/jpeg:https://palaceofvarna.com/wp-content/uploads/2026/04/vanger-gala.jpg
END:VEVENT
END:VCALENDAR