BEGIN:VCALENDAR
VERSION:2.0
PRODID:-//Дворец на културата и спорта - Варна - ECPv6.15.9//NONSGML v1.0//EN
CALSCALE:GREGORIAN
METHOD:PUBLISH
X-ORIGINAL-URL:https://palaceofvarna.com
X-WR-CALDESC:Събития за Дворец на културата и спорта - Варна
REFRESH-INTERVAL;VALUE=DURATION:PT1H
X-Robots-Tag:noindex
X-PUBLISHED-TTL:PT1H
BEGIN:VTIMEZONE
TZID:Europe/Helsinki
BEGIN:DAYLIGHT
TZOFFSETFROM:+0200
TZOFFSETTO:+0300
TZNAME:EEST
DTSTART:20250330T010000
END:DAYLIGHT
BEGIN:STANDARD
TZOFFSETFROM:+0300
TZOFFSETTO:+0200
TZNAME:EET
DTSTART:20251026T010000
END:STANDARD
BEGIN:DAYLIGHT
TZOFFSETFROM:+0200
TZOFFSETTO:+0300
TZNAME:EEST
DTSTART:20260329T010000
END:DAYLIGHT
BEGIN:STANDARD
TZOFFSETFROM:+0300
TZOFFSETTO:+0200
TZNAME:EET
DTSTART:20261025T010000
END:STANDARD
BEGIN:DAYLIGHT
TZOFFSETFROM:+0200
TZOFFSETTO:+0300
TZNAME:EEST
DTSTART:20270328T010000
END:DAYLIGHT
BEGIN:STANDARD
TZOFFSETFROM:+0300
TZOFFSETTO:+0200
TZNAME:EET
DTSTART:20271031T010000
END:STANDARD
END:VTIMEZONE
BEGIN:VEVENT
DTSTART;TZID=Europe/Helsinki:20260717T210000
DTEND;TZID=Europe/Helsinki:20260717T210000
DTSTAMP:20260424T234350
CREATED:20260406T045533Z
LAST-MODIFIED:20260406T045533Z
UID:10002000-1784322000-1784322000@palaceofvarna.com
SUMMARY:Спартак
DESCRIPTION:„Спартак“ – премиерен спектакъл\nБалет от Арам ХачатурянХореограф: Сергей БобровДекор и костюми: Ася Стоименова \nПродукцията е представена от Балета на Държавна опера Варна и е осъществена в партньорство с ММФ „Варненско лято“. \nБалетът разгръща историята за бунта на гладиаторите и робите срещу римската власт\, оглавен от тракиеца Спартак. Неговата борба срещу могъществото на Рим и срещу войските на генерал Крас е вдъхновена от действителни събития от I век пр.н.е.\, оставили ярка следа в историята. \nМузиката на Арам Хачатурян и сценичното действие изграждат образа на Спартак като герой с непоколебим дух\, смелост и високо чувство за чест. На неговия фон Крас се откроява като негов пълен антипод – амбициозен\, коварен и подвластен на стремежа към абсолютна власт. Така спектакълът превръща конфликта между двамата в силен символ на сблъсъка между свободата и тиранията. \nДо тях застават и две ярки женски фигури – Фригия\, олицетворение на вярност и обич\, и Егина\, носеща съблазън\, интрига и предателство. Техните образи придават допълнителна дълбочина и емоционално напрежение на сценичния разказ.
URL:https://palaceofvarna.com/event/spartak-2/
LOCATION:Летен Театър – Варна\, Морска градина\, Варна\, Bulgaria
CATEGORIES:Културни събития,Летен театър
ATTACH;FMTTYPE=image/jpeg:https://palaceofvarna.com/wp-content/uploads/2026/04/spartak.jpg
END:VEVENT
END:VCALENDAR