BEGIN:VCALENDAR
VERSION:2.0
PRODID:-//Дворец на културата и спорта - Варна - ECPv6.15.9//NONSGML v1.0//EN
CALSCALE:GREGORIAN
METHOD:PUBLISH
X-ORIGINAL-URL:https://palaceofvarna.com
X-WR-CALDESC:Събития за Дворец на културата и спорта - Варна
REFRESH-INTERVAL;VALUE=DURATION:PT1H
X-Robots-Tag:noindex
X-PUBLISHED-TTL:PT1H
BEGIN:VTIMEZONE
TZID:Europe/Helsinki
BEGIN:DAYLIGHT
TZOFFSETFROM:+0200
TZOFFSETTO:+0300
TZNAME:EEST
DTSTART:20250330T010000
END:DAYLIGHT
BEGIN:STANDARD
TZOFFSETFROM:+0300
TZOFFSETTO:+0200
TZNAME:EET
DTSTART:20251026T010000
END:STANDARD
BEGIN:DAYLIGHT
TZOFFSETFROM:+0200
TZOFFSETTO:+0300
TZNAME:EEST
DTSTART:20260329T010000
END:DAYLIGHT
BEGIN:STANDARD
TZOFFSETFROM:+0300
TZOFFSETTO:+0200
TZNAME:EET
DTSTART:20261025T010000
END:STANDARD
BEGIN:DAYLIGHT
TZOFFSETFROM:+0200
TZOFFSETTO:+0300
TZNAME:EEST
DTSTART:20270328T010000
END:DAYLIGHT
BEGIN:STANDARD
TZOFFSETFROM:+0300
TZOFFSETTO:+0200
TZNAME:EET
DTSTART:20271031T010000
END:STANDARD
END:VTIMEZONE
BEGIN:VEVENT
DTSTART;TZID=Europe/Helsinki:20260722T210000
DTEND;TZID=Europe/Helsinki:20260722T210000
DTSTAMP:20260424T234314
CREATED:20260406T092400Z
LAST-MODIFIED:20260406T092400Z
UID:10002008-1784754000-1784754000@palaceofvarna.com
SUMMARY:Турандот
DESCRIPTION:„ТУРАНДОТ“\nОпера от Джакомо Пучини \nДиригент: Якопо Сипари ди ПескасеролиПостановка: Кузман ПоповАдаптация: Тихомир Трифонов \nВ главните роли:Турандот – Сайоа ЕрнандесКалаф – Винченцо КостанцоЛиу – Мария Йелич \nС участието на оркестъра\, хора и балета на Държавна опера Варна и ВДЮО.Копродукция с Parma OperArt. \n„Турандот“ е последното голямо оперно произведение на Джакомо Пучини и едно от най-внушителните заглавия в световния репертоар. Лиричната драма в три действия е създадена по пиесата на Карло Гоци\, а след смъртта на композитора е завършена от неговия ученик Франко Алфано\, според оставените от Пучини указания. Сред най-запомнящите се моменти в творбата е прочутата ария „Nessun dorma“\, превърнала се в символ на оперното изкуство със своята емоционална сила и музикално величие. \nВ ролята на принцеса Турандот ще се представи Сайоа Ернандес – ярко международно име\, ценено заради мощния си глас\, сценично присъствие и впечатляващ репертоар. Тя е сред предпочитаните солисти на водещи оперни театри и оркестри по света\, сред които Миланската Скала\, Виенската държавна опера\, Парижката опера\, Баварската държавна опера\, Берлинската държавна опера\, Ковънт Гардън\, Театро Реал в Мадрид и Операта в Сидни. Носителка е на редица престижни отличия\, сред които Златен медал за заслуги в изящните изкуства\, награди за най-добро сопрано и за най-добра женска лирична изпълнителка\, както и признания от Театро Реал и международни певчески форуми. Сред ролите\, с които тя се утвърждава на голямата сцена\, са Тоска\, Аида\, Норма\, Лейди Макбет\, Абигайл\, Джоконда\, Чо Чо Сан и самата Турандот. \nОбразът на Калаф ще бъде пресъздаден от Винченцо Костанцо\, един от утвърдените тенори на новото поколение в съвременната оперна практика. Кариерата му го отвежда на значими европейски сцени\, а името му все по-често се свързва с мащабни продукции от италианския и веристичния репертоар. По повод стогодишнината от смъртта на Пучини той участва в Пучиниевия фестивал в Торе дел Лаго\, където се изявява в ключови роли\, а през следващите сезони продължава с участия в театри като Римската опера и Teatro San Carlo в Неапол. Сред знаковите му сценични изяви е и участието му в официалната церемония по закриването на Зимните олимпийски игри в спектакъл на Арена ди Верона. \nВ ролята на Лиу публиката ще види Мария Йелич – сръбско сопрано с ярко развиваща се международна кариера. След началото на професионалния си път в Оперното студио на Белградския национален театър\, тя се утвърждава с участия в оперни и концертни проекти в Европа\, Азия и Америка. В репертоара ѝ присъстват роли като Мими\, Аида\, Тоска\, Елизабет\, Микаела и Графинята в „Сватбата на Фигаро“. Пяла е на престижни фестивали и концертни сцени\, включително с големи оркестри и прочути артисти\, а сред акцентите в нейната биография са участия с Пласидо Доминго\, Елина Гаранча\, Хосе Кура и концерти в „Карнеги хол“\, Йерусалим\, Любляна\, Рига и Сеул. \nСъс своя мащабен музикален размах\, силни драматични образи и впечатляващ изпълнителски състав\, тази постановка на „Турандот“ обещава силно сценично преживяване\, в което се срещат традицията на голямата опера и присъствието на изявени международни артисти.
URL:https://palaceofvarna.com/event/turandot-3/
LOCATION:Летен Театър – Варна\, Морска градина\, Варна\, Bulgaria
CATEGORIES:Културни събития,Летен театър
ATTACH;FMTTYPE=image/jpeg:https://palaceofvarna.com/wp-content/uploads/2026/04/turandot-2.jpg
END:VEVENT
END:VCALENDAR