BEGIN:VCALENDAR
VERSION:2.0
PRODID:-//Дворец на културата и спорта - Варна - ECPv6.15.9//NONSGML v1.0//EN
CALSCALE:GREGORIAN
METHOD:PUBLISH
X-ORIGINAL-URL:https://palaceofvarna.com
X-WR-CALDESC:Събития за Дворец на културата и спорта - Варна
REFRESH-INTERVAL;VALUE=DURATION:PT1H
X-Robots-Tag:noindex
X-PUBLISHED-TTL:PT1H
BEGIN:VTIMEZONE
TZID:Europe/Helsinki
BEGIN:DAYLIGHT
TZOFFSETFROM:+0200
TZOFFSETTO:+0300
TZNAME:EEST
DTSTART:20250330T010000
END:DAYLIGHT
BEGIN:STANDARD
TZOFFSETFROM:+0300
TZOFFSETTO:+0200
TZNAME:EET
DTSTART:20251026T010000
END:STANDARD
BEGIN:DAYLIGHT
TZOFFSETFROM:+0200
TZOFFSETTO:+0300
TZNAME:EEST
DTSTART:20260329T010000
END:DAYLIGHT
BEGIN:STANDARD
TZOFFSETFROM:+0300
TZOFFSETTO:+0200
TZNAME:EET
DTSTART:20261025T010000
END:STANDARD
BEGIN:DAYLIGHT
TZOFFSETFROM:+0200
TZOFFSETTO:+0300
TZNAME:EEST
DTSTART:20270328T010000
END:DAYLIGHT
BEGIN:STANDARD
TZOFFSETFROM:+0300
TZOFFSETTO:+0200
TZNAME:EET
DTSTART:20271031T010000
END:STANDARD
END:VTIMEZONE
BEGIN:VEVENT
DTSTART;TZID=Europe/Helsinki:20260723T210000
DTEND;TZID=Europe/Helsinki:20260723T210000
DTSTAMP:20260424T234357
CREATED:20260406T051613Z
LAST-MODIFIED:20260406T051613Z
UID:10002004-1784840400-1784840400@palaceofvarna.com
SUMMARY:Турандот
DESCRIPTION:„ТУРАНДОТ“\nОпера от Джакомо Пучини \nДиригент: Якопо Сипари ди ПескасеролиПостановка: Кузман ПоповАдаптация: Тихомир Трифонов \nВ главните роли:Турандот – Габриела ГеоргиеваКалаф – Валерий ГеоргиевЛиу – Илина Михайлова \nС участието на оркестъра\, хора и балета на Държавна опера Варна и ВДЮО.Копродукция с Parma OperArt. \n„Турандот“ е последното и едно от най-впечатляващите произведения на Джакомо Пучини – монументална опера\, в която се преплитат драматизъм\, страст\, изпитания и силни човешки чувства. Създадена по пиесата на Карло Гоци\, творбата разгръща приказно-символичен свят\, в който любовта и жертвоготовността се изправят срещу гордостта\, страха и непреклонната воля. \nСлед смъртта на Пучини операта е завършена от неговия ученик Франко Алфано\, по волята на самия композитор. Така „Турандот“ остава не само връх в творческия му път\, но и едно от най-разпознаваемите заглавия в световния оперен репертоар. \nСред най-емблематичните моменти в произведението е прочутата ария „Nessun dorma“\, изпълнявана от Калаф — музикален връх с изключителна сила и въздействие\, превърнал се в символ на оперното изкуство. Със своята внушителна музика\, ярки образи и мащабно сценично присъствие\, „Турандот“ продължава да вълнува публиката по целия свят.
URL:https://palaceofvarna.com/event/turandot-2/
LOCATION:Летен Театър – Варна\, Морска градина\, Варна\, Bulgaria
CATEGORIES:Културни събития,Летен театър
ATTACH;FMTTYPE=image/jpeg:https://palaceofvarna.com/wp-content/uploads/2026/04/turandot.jpg
END:VEVENT
END:VCALENDAR