BEGIN:VCALENDAR
VERSION:2.0
PRODID:-//Дворец на културата и спорта - Варна - ECPv6.15.9//NONSGML v1.0//EN
CALSCALE:GREGORIAN
METHOD:PUBLISH
X-ORIGINAL-URL:https://palaceofvarna.com
X-WR-CALDESC:Събития за Дворец на културата и спорта - Варна
REFRESH-INTERVAL;VALUE=DURATION:PT1H
X-Robots-Tag:noindex
X-PUBLISHED-TTL:PT1H
BEGIN:VTIMEZONE
TZID:Europe/Helsinki
BEGIN:DAYLIGHT
TZOFFSETFROM:+0200
TZOFFSETTO:+0300
TZNAME:EEST
DTSTART:20250330T010000
END:DAYLIGHT
BEGIN:STANDARD
TZOFFSETFROM:+0300
TZOFFSETTO:+0200
TZNAME:EET
DTSTART:20251026T010000
END:STANDARD
BEGIN:DAYLIGHT
TZOFFSETFROM:+0200
TZOFFSETTO:+0300
TZNAME:EEST
DTSTART:20260329T010000
END:DAYLIGHT
BEGIN:STANDARD
TZOFFSETFROM:+0300
TZOFFSETTO:+0200
TZNAME:EET
DTSTART:20261025T010000
END:STANDARD
BEGIN:DAYLIGHT
TZOFFSETFROM:+0200
TZOFFSETTO:+0300
TZNAME:EEST
DTSTART:20270328T010000
END:DAYLIGHT
BEGIN:STANDARD
TZOFFSETFROM:+0300
TZOFFSETTO:+0200
TZNAME:EET
DTSTART:20271031T010000
END:STANDARD
END:VTIMEZONE
BEGIN:VEVENT
DTSTART;TZID=Europe/Helsinki:20260729T210000
DTEND;TZID=Europe/Helsinki:20260729T210000
DTSTAMP:20260424T233130
CREATED:20260406T051210Z
LAST-MODIFIED:20260406T051211Z
UID:10002003-1785358800-1785358800@palaceofvarna.com
SUMMARY:Ермонела Яхо Гала
DESCRIPTION:ЕРМОНЕЛА ЯХО ГАЛА\nДиригент: Якопо Сипари ди ПескасеролиСолист: Ермонела Яхо – сопран \nСъс специалното участие на:Абигейла Вощина – цигулка \nВ програмата: увертюри\, арии и цигулкови произведения от Пучини\, Верди\, Бетовен\, Чилеа\, Брух и Джон Уилямс \nОркестър на Държавна опера Варна \nЗа първи път във Варна световноизвестното сопрано Ермонела Яхо ще се срещне с публиката в специален гала концерт\, който събира изключителни музикални страници от оперната и инструменталната класика. Програмата включва обичани арии и оркестрови откъси от творби на Пучини\, Верди и Чилеа\, както и впечатляващи цигулкови пиеси\, които допълват музикалната картина на вечерта. \nЕрмонела Яхо е сред най-ярките имена на съвременната оперна сцена. Тя се изявява в едни от най-престижните театри в света\, сред които Кралската опера „Ковънт Гардън“ в Лондон\, Метрополитън опера в Ню Йорк\, Миланската Скала\, Арена ди Верона\, Виенската държавна опера и Театро Реал в Мадрид. Публиката и критиката я ценят заради силното емоционално присъствие\, дълбочината на интерпретациите ѝ и изключителната ѝ вокална култура. \nМеждународното признание към нея е подкрепено и от множество престижни отличия. Сред тях са наградата „Най-добра певица 2024“ на Oper! Awards в Германия\, „Най-добър чуждестранен артист 2024“ в Испания\, както и признанието „Артист на годината“ на International Classical Music Awards. Тя е носител и на Vocal Music Prize на ICMA за албума Anima Rara\, а нейните записи и сценични превъплъщения получават висока оценка от водещи международни издания и музикални среди. \nРодена в Албания\, Ермонела Яхо изучава пеене в Консерваторията в Тирана и в академия „Санта Чечилия“ в Рим. След поредица от успехи в международни конкурси започва блестящата ѝ кариера\, която обхваща широк репертоар – от барок и белканто до веризъм. Нейното сценично присъствие и пълното ѝ отдаване на всяка роля я превръщат в един от най-разпознаваемите и вълнуващи гласове на нашето време. \nПрез сезон 2025–2026 певицата има ангажименти в едни от най-значимите оперни центрове в света. Сред тях са участия в Мадрид\, Лондон\, Виена\, Ню Йорк\, Мюнхен и Рим\, с роли в заглавия като Iris\, La Rondine\, La Traviata\, Madama Butterfly и Turandot. Наред със сценичните си изяви\, тя продължава и активната си звукозаписна дейност с нови проекти\, посветени на италианския и френския вокален репертоар. \nНа диригентския пулт ще застане Якопо Сипари ди Пескасероли – утвърден италиански музикант с международна кариера\, работил с редица симфонични оркестри и оперни театри в Европа\, Азия и Латинска Америка. Завършил пиано\, композиция и пеене\, той развива широка артистична дейност като диригент на симфонични концерти\, оперни продукции и балетни спектакли. В професионалния му път присъстват заглавия като Норма\, Севилският бръснар\, Набуко\, Бохеми\, Турандот\, Травиата\, Мадам Бътерфлай\, Трубадур и други. Освен с музикалната си кариера\, той е известен и с впечатляващата си академична подготовка извън изкуството. \nСпециален акцент в концерта е участието на Абигейла Вощина – изтъкната цигуларка и настоящ директор на Албанската национална опера и балет в Тирана. Нейният професионален път минава през обучение в престижни музикални институции в Италия и Съединените щати\, а кариерата ѝ започва като концертмайстор и оркестрант в значими европейски формации\, включително оркестъра на Ла Скала. Работила е с прочути диригенти като Рикардо Мути\, Курт Мазур и Мстислав Ростропович\, а по-късно се утвърждава и като солист с ярко присъствие и впечатляваща техника. \nСрещата между гласа на Ермонела Яхо\, цигулката на Абигейла Вощина и оркестъра на Държавна опера Варна обещава вечер с изключителен артистичен заряд\, изящество и силно емоционално въздействие. Този концерт е специално музикално събитие\, което събира на една сцена световна оперна звезда\, изявен диригент и блестящ инструменталист в програма с богато стилово и емоционално звучене.
URL:https://palaceofvarna.com/event/ermonela-yaho-gala/
LOCATION:Летен Театър – Варна\, Морска градина\, Варна\, Bulgaria
CATEGORIES:Културни събития,Летен театър
ATTACH;FMTTYPE=image/jpeg:https://palaceofvarna.com/wp-content/uploads/2026/04/ermonela-yaho.jpg
END:VEVENT
END:VCALENDAR