BEGIN:VCALENDAR
VERSION:2.0
PRODID:-//Дворец на културата и спорта - Варна - ECPv6.15.9//NONSGML v1.0//EN
CALSCALE:GREGORIAN
METHOD:PUBLISH
X-ORIGINAL-URL:https://palaceofvarna.com
X-WR-CALDESC:Събития за Дворец на културата и спорта - Варна
REFRESH-INTERVAL;VALUE=DURATION:PT1H
X-Robots-Tag:noindex
X-PUBLISHED-TTL:PT1H
BEGIN:VTIMEZONE
TZID:Europe/Helsinki
BEGIN:DAYLIGHT
TZOFFSETFROM:+0200
TZOFFSETTO:+0300
TZNAME:EEST
DTSTART:20250330T010000
END:DAYLIGHT
BEGIN:STANDARD
TZOFFSETFROM:+0300
TZOFFSETTO:+0200
TZNAME:EET
DTSTART:20251026T010000
END:STANDARD
BEGIN:DAYLIGHT
TZOFFSETFROM:+0200
TZOFFSETTO:+0300
TZNAME:EEST
DTSTART:20260329T010000
END:DAYLIGHT
BEGIN:STANDARD
TZOFFSETFROM:+0300
TZOFFSETTO:+0200
TZNAME:EET
DTSTART:20261025T010000
END:STANDARD
BEGIN:DAYLIGHT
TZOFFSETFROM:+0200
TZOFFSETTO:+0300
TZNAME:EEST
DTSTART:20270328T010000
END:DAYLIGHT
BEGIN:STANDARD
TZOFFSETFROM:+0300
TZOFFSETTO:+0200
TZNAME:EET
DTSTART:20271031T010000
END:STANDARD
END:VTIMEZONE
BEGIN:VEVENT
DTSTART;TZID=Europe/Helsinki:20260808T210000
DTEND;TZID=Europe/Helsinki:20260808T210000
DTSTAMP:20260425T010021
CREATED:20260406T050715Z
LAST-MODIFIED:20260406T050715Z
UID:10002002-1786222800-1786222800@palaceofvarna.com
SUMMARY:Норма
DESCRIPTION:„Норма“\nОпера в две действия от Винченцо Белини \nДиригент: Григор ПаликаровПостановка: Кузман ПоповРежисьор: Сребрина Соколова \nСъс специалното участие на:Норма – Джесика ПратАдалджиза – Екатерине БуачидзеПолионе – Рикардо Маси \nУчастват солисти\, хор и оркестър на Държавна опера Варна. \nВ центъра на тази постановка на „Норма“ застават трима изключителни изпълнители\, чиито имена отдавна са утвърдени на международната оперна сцена. \nВ ролята на Норма зрителите ще видят прочутото сопрано Джесика Прат\, определяна като една от най-ярките съвременни интерпретаторки на белкантовия репертоар. Високо ценена от световната критика заради сияйния си тембър\, лекотата във високия регистър\, виртуозната колоратура и изящната лиричност\, тя изгражда впечатляваща международна кариера. Родена в Англия и израснала в Австралия\, Джесика Прат се обучава в Италия и усъвършенства вокалното си майсторство с големи имена като Рената Ското и маестро Джанлуиджи Джелмети\, а днес работи с Лела Куберли. \nСлед европейския си дебют през 2007 година като Лучия ди Ламермур\, тя се изявява на сцените на едни от най-престижните театри и фестивали в света\, сред които Националната академия „Санта Чечилия“\, Арена ди Верона\, Гран Театър дел Лисеу\, Кралската опера „Ковънт Гардън“\, Метрополитън опера\, Миланската Скала\, Театър „Реал“ в Мадрид\, Опера Австралия и Театър „Шанз-Елизе“. Работила е с диригенти от ранга на Карло Рици\, Даниеле Гати\, Густаво Дудамел\, сър Колин Дейвис\, Кент Нагано и Зубин Мета. В кариерата си има десетки роли и участия в многобройни продукции по света\, а сред най-емблематичните ѝ превъплъщения са Лучия от „Лучия ди Ламермур“\, Амина от „Сомнамбула“ и Елвира от „Пуритани“. Сред отличията ѝ се нареждат редица международни награди\, включително La Siola d’Oro „Lina Pagliughi“ и Oscar della Lirica – International Opera Award за най-добър сопран. \nВ ролята на Полионе ще се изяви италианският тенор Рикардо Маси\, един от водещите драматични тенори на нашето време. Неговата кариера го отвежда на сцените на Кралската опера „Ковънт Гардън“\, Метрополитън опера\, Миланската Скала\, Баварската държавна опера\, Щатсопер „Унтер ден Линден“\, Дойче Опер Берлин\, Операта в Сидни\, Новия национален театър в Токио и Арена ди Верона. През последните сезони той се утвърждава с ярки участия в заглавия като „Тоска“\, „Трубадур“\, „Мадам Бътерфлай“\, „Манон Леско“\, „Турандот“\, „Палячи“ и „Силата на съдбата“. \nОсвен на оперната сцена\, Маси се изявява и като концертен изпълнител\, партнирайки си с артисти като Соня Йончева и водещи европейски оркестри. Любопитен детайл от биографията му е\, че преди да се посвети изцяло на музиката\, той работи като професионален каскадьор и участва в известни филмови продукции\, сред които „Бандите на Ню Йорк“ на Мартин Скорсезе и сериала „Рим“. \nРолята на Адалджиза е поверена на грузинското мецосопрано Екатерине Буачидзе\, едно от най-обещаващите млади имена на съвременната оперна сцена. Тя привлече силно международно внимание с отличното си представяне на конкурса „Опералия“ в София през 2025 година\, където спечели Първа награда\, Наградата на публиката и признание в категория „Сарсуела“. Още от ранна възраст Буачидзе е свързана с музиката\, а професионалният ѝ път я отвежда от хоровото пеене до престижни международни конкурси и сцени. \nТя учи в Държавната консерватория „Вано Сараджишвили“ в Тбилиси\, а по-късно се присъединява към програмата за млади артисти Fabbrica на Римската опера. Там дебютира в различни роли и участва в продукции на „Мадам Бътерфлай“\, „Травиата“ и други заглавия. Изявява се и на турне в Япония\, както и в редица постановки на Римската опера. През 2024 година дебютира в Арена ди Верона като Розина в „Севилският бръснар“\, а впоследствие става част от Оперното студио на Баварската държавна опера в Мюнхен. Сред бъдещите ѝ ангажименти са участия в „Танкред“\, „Фауст“\, „Ариоданте“\, „Норма“ и „Милосърдието на Тит“\, както и концертни изяви в различни европейски музикални центрове. \nТака постановката на „Норма“ във Варненската опера събира на една сцена ярки международни имена и впечатляващ изпълнителски състав\, което я превръща в едно от значимите оперни събития на сезона.
URL:https://palaceofvarna.com/event/norma/
LOCATION:Летен Театър – Варна\, Морска градина\, Варна\, Bulgaria
CATEGORIES:Културни събития,Летен театър
ATTACH;FMTTYPE=image/jpeg:https://palaceofvarna.com/wp-content/uploads/2026/04/norma.jpg
END:VEVENT
END:VCALENDAR