BEGIN:VCALENDAR
VERSION:2.0
PRODID:-//Дворец на културата и спорта - Варна - ECPv6.15.9//NONSGML v1.0//EN
CALSCALE:GREGORIAN
METHOD:PUBLISH
X-WR-CALNAME:Дворец на културата и спорта - Варна
X-ORIGINAL-URL:https://palaceofvarna.com
X-WR-CALDESC:Събития за Дворец на културата и спорта - Варна
REFRESH-INTERVAL;VALUE=DURATION:PT1H
X-Robots-Tag:noindex
X-PUBLISHED-TTL:PT1H
BEGIN:VTIMEZONE
TZID:Europe/Helsinki
BEGIN:DAYLIGHT
TZOFFSETFROM:+0200
TZOFFSETTO:+0300
TZNAME:EEST
DTSTART:20200329T010000
END:DAYLIGHT
BEGIN:STANDARD
TZOFFSETFROM:+0300
TZOFFSETTO:+0200
TZNAME:EET
DTSTART:20201025T010000
END:STANDARD
BEGIN:DAYLIGHT
TZOFFSETFROM:+0200
TZOFFSETTO:+0300
TZNAME:EEST
DTSTART:20210328T010000
END:DAYLIGHT
BEGIN:STANDARD
TZOFFSETFROM:+0300
TZOFFSETTO:+0200
TZNAME:EET
DTSTART:20211031T010000
END:STANDARD
BEGIN:DAYLIGHT
TZOFFSETFROM:+0200
TZOFFSETTO:+0300
TZNAME:EEST
DTSTART:20220327T010000
END:DAYLIGHT
BEGIN:STANDARD
TZOFFSETFROM:+0300
TZOFFSETTO:+0200
TZNAME:EET
DTSTART:20221030T010000
END:STANDARD
END:VTIMEZONE
BEGIN:VEVENT
DTSTART;TZID=Europe/Helsinki:20210618T110000
DTEND;TZID=Europe/Helsinki:20210620T190000
DTSTAMP:20260422T044859
CREATED:20211111T153851Z
LAST-MODIFIED:20230202T144358Z
UID:10001567-1624014000-1624215600@palaceofvarna.com
SUMMARY:Palace Auto Varna 2021
DESCRIPTION:? PALACE AUTO VARNA E-MOBILITY 2021 ??\n? от 18 до 20 юни 2021 г.\nАвтомобилното изложение тази година ще премине под мотото e-Mobility.\nС пълни обороти новата мобилност се отправя към морската столица – Варна в началото на летния сезон. \n??? Със следните марки: ALFA ROMEO\, AUDI\, CITROEN\, FIAT\, FORD\, HYUNDAI\, JEEP\, KIA\, MAZDA\, OPEL\, PEUGEOT\, SKODA\, SUZUKI и TOYOTA.\nОт 18 до 20 юни Дворец на културата и спорта Варна ще бъде домакин на най-голямото и най-разнообразно събитие за електромобили в морската столица. Автомобилните компании ще представят най-новите разработки и технологии в задвижването и дизайна на хибриди и Е-Mobility гама автомобили.\nЗа многобройните почитатели на автомобилите и за всички посетители ще има организиран тест-драйв и демонстрации\, за да видят и усетят следващото ниво на мобилност.\n?? Община Варна е една от общините\, която има за цел да стимулира използването на екологични превозни средства и да подобряване чистотата на въздуха.
URL:https://palaceofvarna.com/event/palace-auto-varna-2021/
LOCATION:Дворец на културата и спорта – Варна\, Дворец на културата и спорта - Варна\, Варна\, Bulgaria
CATEGORIES:Дворец на културата и спорта,Изложения
ATTACH;FMTTYPE=image/png:https://palaceofvarna.com/wp-content/uploads/2021/11/193818415_1192905817815545_1867652226622377647_n.png
END:VEVENT
END:VCALENDAR