BEGIN:VCALENDAR
VERSION:2.0
PRODID:-//Дворец на културата и спорта - Варна - ECPv6.15.9//NONSGML v1.0//EN
CALSCALE:GREGORIAN
METHOD:PUBLISH
X-WR-CALNAME:Дворец на културата и спорта - Варна
X-ORIGINAL-URL:https://palaceofvarna.com
X-WR-CALDESC:Събития за Дворец на културата и спорта - Варна
REFRESH-INTERVAL;VALUE=DURATION:PT1H
X-Robots-Tag:noindex
X-PUBLISHED-TTL:PT1H
BEGIN:VTIMEZONE
TZID:Europe/Helsinki
BEGIN:DAYLIGHT
TZOFFSETFROM:+0200
TZOFFSETTO:+0300
TZNAME:EEST
DTSTART:20210328T010000
END:DAYLIGHT
BEGIN:STANDARD
TZOFFSETFROM:+0300
TZOFFSETTO:+0200
TZNAME:EET
DTSTART:20211031T010000
END:STANDARD
BEGIN:DAYLIGHT
TZOFFSETFROM:+0200
TZOFFSETTO:+0300
TZNAME:EEST
DTSTART:20220327T010000
END:DAYLIGHT
BEGIN:STANDARD
TZOFFSETFROM:+0300
TZOFFSETTO:+0200
TZNAME:EET
DTSTART:20221030T010000
END:STANDARD
BEGIN:DAYLIGHT
TZOFFSETFROM:+0200
TZOFFSETTO:+0300
TZNAME:EEST
DTSTART:20230326T010000
END:DAYLIGHT
BEGIN:STANDARD
TZOFFSETFROM:+0300
TZOFFSETTO:+0200
TZNAME:EET
DTSTART:20231029T010000
END:STANDARD
END:VTIMEZONE
BEGIN:VEVENT
DTSTART;TZID=Europe/Helsinki:20220825T103000
DTEND;TZID=Europe/Helsinki:20220828T193000
DTSTAMP:20260422T045021
CREATED:20220726T085736Z
LAST-MODIFIED:20230202T145313Z
UID:10001649-1661423400-1661715000@palaceofvarna.com
SUMMARY:Palace Auto Varna E-MOBILITY
DESCRIPTION:АВТОМОБИЛЕН САЛОН – Palace Auto Varna E-MOBILITY- най-голямото събитие за електромобили и хибриди \n от 25 до 28 август 2022 г.\nМобилността на бъдещето – хибридна\, електрическа и свързана – се отправя към морската столица Варна.\n\n Със следните марки автомобили: CITROEN\, FIAT\, FORD\, HYUNDAI\, JEEP\, LAND ROVER\, PEUGEOT\, SKODA\, VOLVO\, VW и др.\, както и електрически мотоциклети – SUR-RON.\nОт 25 до 28 август Дворец на културата и спорта Варна ще бъде домакин на най-голямото и най-разнообразно събитие за електромобили. Автомобилните компании ще представят най-новите разработки и технологии в задвижването и дизайна на хибриди и Е-Mobility гама автомобили.\n\nЗа многобройните почитатели на автомобилите и за всички посетители ще има организиран тест-драйв и демонстрации\, за да видят и усетят следващото ниво на мобилност.\n Община Варна е една от общините\, която има за цел да стимулира използването на екологични превозни средства и да подобряване чистотата на въздуха.\n\n Станете част от Е-мобилността!
URL:https://palaceofvarna.com/event/palace-auto-varna-e-mobility/
LOCATION:Дворец на културата и спорта – Варна\, Дворец на културата и спорта - Варна\, Варна\, Bulgaria
CATEGORIES:Дворец на културата и спорта,Изложения
ATTACH;FMTTYPE=image/jpeg:https://palaceofvarna.com/wp-content/uploads/2022/07/e-mobily.jpg
END:VEVENT
END:VCALENDAR