BEGIN:VCALENDAR
VERSION:2.0
PRODID:-//Дворец на културата и спорта - Варна - ECPv6.15.9//NONSGML v1.0//EN
CALSCALE:GREGORIAN
METHOD:PUBLISH
X-WR-CALNAME:Дворец на културата и спорта - Варна
X-ORIGINAL-URL:https://palaceofvarna.com
X-WR-CALDESC:Събития за Дворец на културата и спорта - Варна
REFRESH-INTERVAL;VALUE=DURATION:PT1H
X-Robots-Tag:noindex
X-PUBLISHED-TTL:PT1H
BEGIN:VTIMEZONE
TZID:Europe/Helsinki
BEGIN:DAYLIGHT
TZOFFSETFROM:+0200
TZOFFSETTO:+0300
TZNAME:EEST
DTSTART:20210328T010000
END:DAYLIGHT
BEGIN:STANDARD
TZOFFSETFROM:+0300
TZOFFSETTO:+0200
TZNAME:EET
DTSTART:20211031T010000
END:STANDARD
BEGIN:DAYLIGHT
TZOFFSETFROM:+0200
TZOFFSETTO:+0300
TZNAME:EEST
DTSTART:20220327T010000
END:DAYLIGHT
BEGIN:STANDARD
TZOFFSETFROM:+0300
TZOFFSETTO:+0200
TZNAME:EET
DTSTART:20221030T010000
END:STANDARD
BEGIN:DAYLIGHT
TZOFFSETFROM:+0200
TZOFFSETTO:+0300
TZNAME:EEST
DTSTART:20230326T010000
END:DAYLIGHT
BEGIN:STANDARD
TZOFFSETFROM:+0300
TZOFFSETTO:+0200
TZNAME:EET
DTSTART:20231029T010000
END:STANDARD
END:VTIMEZONE
BEGIN:VEVENT
DTSTART;TZID=Europe/Helsinki:20220702T100000
DTEND;TZID=Europe/Helsinki:20220703T180000
DTSTAMP:20260422T033133
CREATED:20220601T082232Z
LAST-MODIFIED:20230202T145248Z
UID:10001482-1656756000-1656871200@palaceofvarna.com
SUMMARY:Бебе Зона Family Expo Варна 2022
DESCRIPTION:За втора поредна година Варна ще бъде домакин на специализираното търговско изложение за бебешки и детски стоки „Бебе Зона“.\nИзложението ще се проведе на 2 и 3 юли в Двореца на културата и спорта – зала „Младост“.\nПрез двата дни на изложението варненските семейства ще имат възможността да тестват и закупят продукти и услуги директно от водещите производители и вносители на бебешки и детски стоки у нас.\nПосетителите ще могат да участват в над 30 томболи с награди осигурени от изложители и партньорите на изложението.\nИзложението ще бъде с работно време от 10:00 до 18:00 ч. през първия ден и от 10:00 до 16:00 ч. на втория ден.\nВ рамките на изложението ще се проведе и благотворителната инициатива „От мама за мама“\, която има за цел да подпомогне семейства в неравностойно положение на територията на област Варна.\nПовече информация за програмата и изложителите очаквайте скоро в страницата на Бебе Зона и тук в събитието.\nВХОД: Свободен без предварителна регистрация!\n***За допълнителна информация от страна на изложители и посетители на телефони: 0894406234 или на 0883100044\nОчакваме Ви
URL:https://palaceofvarna.com/event/bebe-zona-family-expo-varna-2022/
LOCATION:Дворец на културата и спорта – Варна\, Дворец на културата и спорта - Варна\, Варна\, Bulgaria
CATEGORIES:Дворец на културата и спорта,Изложения
ATTACH;FMTTYPE=image/jpeg:https://palaceofvarna.com/wp-content/uploads/2022/06/bebe-zona.jpg
END:VEVENT
BEGIN:VEVENT
DTSTART;TZID=Europe/Helsinki:20220703T100000
DTEND;TZID=Europe/Helsinki:20220703T160000
DTSTAMP:20260422T033133
CREATED:20220601T082641Z
LAST-MODIFIED:20230202T145254Z
UID:10001484-1656842400-1656864000@palaceofvarna.com
SUMMARY:БЕБЕ ЗОНА FAMILY EXPO ВАРНА 2022
DESCRIPTION:За втора поредна година Варна ще бъде домакин на специализираното търговско изложение за бебешки и детски стоки „Бебе Зона“.\nИзложението ще се проведе на 2 и 3 юли в Двореца на културата и спорта – зала „Младост“.\nПрез двата дни на изложението варненските семейства ще имат възможността да тестват и закупят продукти и услуги директно от водещите производители и вносители на бебешки и детски стоки у нас.\nПосетителите ще могат да участват в над 30 томболи с награди осигурени от изложители и партньорите на изложението.\nИзложението ще бъде с работно време от 10:00 до 18:00 ч. през първия ден и от 10:00 до 16:00 ч. на втория ден.\nВ рамките на изложението ще се проведе и благотворителната инициатива „От мама за мама“\, която има за цел да подпомогне семейства в неравностойно положение на територията на област Варна.\nПовече информация за програмата и изложителите очаквайте скоро в страницата на Бебе Зона и тук в събитието.\nВХОД: Свободен без предварителна регистрация!\n***За допълнителна информация от страна на изложители и посетители на телефони: 0894406234 или на 0883100044\nОчакваме Ви
URL:https://palaceofvarna.com/event/bebe-zona-family-expo-varna-2022-2/
LOCATION:Дворец на културата и спорта – Варна\, Дворец на културата и спорта - Варна\, Варна\, Bulgaria
CATEGORIES:Дворец на културата и спорта,Изложения
ATTACH;FMTTYPE=image/jpeg:https://palaceofvarna.com/wp-content/uploads/2022/06/bebe-zona.jpg
END:VEVENT
END:VCALENDAR