BEGIN:VCALENDAR
VERSION:2.0
PRODID:-//Дворец на културата и спорта - Варна - ECPv6.15.9//NONSGML v1.0//EN
CALSCALE:GREGORIAN
METHOD:PUBLISH
X-ORIGINAL-URL:https://palaceofvarna.com
X-WR-CALDESC:Събития за Дворец на културата и спорта - Варна
REFRESH-INTERVAL;VALUE=DURATION:PT1H
X-Robots-Tag:noindex
X-PUBLISHED-TTL:PT1H
BEGIN:VTIMEZONE
TZID:Europe/Helsinki
BEGIN:DAYLIGHT
TZOFFSETFROM:+0200
TZOFFSETTO:+0300
TZNAME:EEST
DTSTART:20220327T010000
END:DAYLIGHT
BEGIN:STANDARD
TZOFFSETFROM:+0300
TZOFFSETTO:+0200
TZNAME:EET
DTSTART:20221030T010000
END:STANDARD
BEGIN:DAYLIGHT
TZOFFSETFROM:+0200
TZOFFSETTO:+0300
TZNAME:EEST
DTSTART:20230326T010000
END:DAYLIGHT
BEGIN:STANDARD
TZOFFSETFROM:+0300
TZOFFSETTO:+0200
TZNAME:EET
DTSTART:20231029T010000
END:STANDARD
BEGIN:DAYLIGHT
TZOFFSETFROM:+0200
TZOFFSETTO:+0300
TZNAME:EEST
DTSTART:20240331T010000
END:DAYLIGHT
BEGIN:STANDARD
TZOFFSETFROM:+0300
TZOFFSETTO:+0200
TZNAME:EET
DTSTART:20241027T010000
END:STANDARD
END:VTIMEZONE
BEGIN:VEVENT
DTSTART;TZID=Europe/Helsinki:20230422T100000
DTEND;TZID=Europe/Helsinki:20230423T180000
DTSTAMP:20260422T092723
CREATED:20230125T081324Z
LAST-MODIFIED:20230214T061716Z
UID:10001664-1682157600-1682272800@palaceofvarna.com
SUMMARY:Изложба котки
DESCRIPTION:Изложба на котки –  Дворец на Културата и Спорта „Зала Младост“  \nПърва Световна изложба на котки в България. Организатор на събитието е Съюза на фелинолозите в България съвместно с израелския клуб Royal Cat и турския клуб Pati Saray. Изложбата ще се проведе по правилата на Световната федерация на котките WCF. \nИзложението ще се проведе на 22 и 23 април в Двореца на културата и спорта. \nЗа първи път в България ще се проведе изложба от такъв мащаб. \nВ огромна зала под един покрив ще се съберат победители в множество международни конкурси и изложби. Котки и котенца от различни породи и цветове\, от водещи развъдчици от цял свят. \nОчаква Ви интересно и ярко пътешествие в чудния свят на котките\, забавна шоу – програма\, конкурси и приятни изненади ! \nПрограмата на изложбата: \nШоу на британски късокосмести и дългокосмести котки\, \nмонопородно шоу на бенгалски котки\, \nшоу на невероятни редки породи\, \nШоу на най-големите котки – мейн куун както и много други рингове и състезания.
URL:https://palaceofvarna.com/event/izlozhba-kotki/
LOCATION:Дворец на културата и спорта – Варна\, Дворец на културата и спорта - Варна\, Варна\, Bulgaria
CATEGORIES:Дворец на културата и спорта,Изложения
ATTACH;FMTTYPE=image/jpeg:https://palaceofvarna.com/wp-content/uploads/2023/01/kotki.jpg
END:VEVENT
END:VCALENDAR