BEGIN:VCALENDAR
VERSION:2.0
PRODID:-//Дворец на културата и спорта - Варна - ECPv6.15.9//NONSGML v1.0//EN
CALSCALE:GREGORIAN
METHOD:PUBLISH
X-WR-CALNAME:Дворец на културата и спорта - Варна
X-ORIGINAL-URL:https://palaceofvarna.com
X-WR-CALDESC:Събития за Дворец на културата и спорта - Варна
REFRESH-INTERVAL;VALUE=DURATION:PT1H
X-Robots-Tag:noindex
X-PUBLISHED-TTL:PT1H
BEGIN:VTIMEZONE
TZID:Europe/Helsinki
BEGIN:DAYLIGHT
TZOFFSETFROM:+0200
TZOFFSETTO:+0300
TZNAME:EEST
DTSTART:20230326T010000
END:DAYLIGHT
BEGIN:STANDARD
TZOFFSETFROM:+0300
TZOFFSETTO:+0200
TZNAME:EET
DTSTART:20231029T010000
END:STANDARD
BEGIN:DAYLIGHT
TZOFFSETFROM:+0200
TZOFFSETTO:+0300
TZNAME:EEST
DTSTART:20240331T010000
END:DAYLIGHT
BEGIN:STANDARD
TZOFFSETFROM:+0300
TZOFFSETTO:+0200
TZNAME:EET
DTSTART:20241027T010000
END:STANDARD
BEGIN:DAYLIGHT
TZOFFSETFROM:+0200
TZOFFSETTO:+0300
TZNAME:EEST
DTSTART:20250330T010000
END:DAYLIGHT
BEGIN:STANDARD
TZOFFSETFROM:+0300
TZOFFSETTO:+0200
TZNAME:EET
DTSTART:20251026T010000
END:STANDARD
END:VTIMEZONE
BEGIN:VEVENT
DTSTART;TZID=Europe/Helsinki:20240406T100000
DTEND;TZID=Europe/Helsinki:20240407T170000
DTSTAMP:20260422T135538
CREATED:20240307T062312Z
LAST-MODIFIED:20240307T062312Z
UID:10001659-1712397600-1712509200@palaceofvarna.com
SUMMARY:Международна изложба на котки
DESCRIPTION:Очаквайте повече информация
URL:https://palaceofvarna.com/event/mezhdunarodna-izlozhba-na-kotki-2/
LOCATION:Дворец на културата и спорта – Варна\, Дворец на културата и спорта - Варна\, Варна\, Bulgaria
CATEGORIES:Дворец на културата и спорта,Изложения
ATTACH;FMTTYPE=image/jpeg:https://palaceofvarna.com/wp-content/uploads/2023/01/izlojba-na-kotki.jpg
END:VEVENT
END:VCALENDAR