BEGIN:VCALENDAR
VERSION:2.0
PRODID:-//Дворец на културата и спорта - Варна - ECPv6.15.9//NONSGML v1.0//EN
CALSCALE:GREGORIAN
METHOD:PUBLISH
X-WR-CALNAME:Дворец на културата и спорта - Варна
X-ORIGINAL-URL:https://palaceofvarna.com
X-WR-CALDESC:Събития за Дворец на културата и спорта - Варна
REFRESH-INTERVAL;VALUE=DURATION:PT1H
X-Robots-Tag:noindex
X-PUBLISHED-TTL:PT1H
BEGIN:VTIMEZONE
TZID:Europe/Helsinki
BEGIN:DAYLIGHT
TZOFFSETFROM:+0200
TZOFFSETTO:+0300
TZNAME:EEST
DTSTART:20240331T010000
END:DAYLIGHT
BEGIN:STANDARD
TZOFFSETFROM:+0300
TZOFFSETTO:+0200
TZNAME:EET
DTSTART:20241027T010000
END:STANDARD
BEGIN:DAYLIGHT
TZOFFSETFROM:+0200
TZOFFSETTO:+0300
TZNAME:EEST
DTSTART:20250330T010000
END:DAYLIGHT
BEGIN:STANDARD
TZOFFSETFROM:+0300
TZOFFSETTO:+0200
TZNAME:EET
DTSTART:20251026T010000
END:STANDARD
BEGIN:DAYLIGHT
TZOFFSETFROM:+0200
TZOFFSETTO:+0300
TZNAME:EEST
DTSTART:20260329T010000
END:DAYLIGHT
BEGIN:STANDARD
TZOFFSETFROM:+0300
TZOFFSETTO:+0200
TZNAME:EET
DTSTART:20261025T010000
END:STANDARD
END:VTIMEZONE
BEGIN:VEVENT
DTSTART;TZID=Europe/Helsinki:20250316T100000
DTEND;TZID=Europe/Helsinki:20250316T180000
DTSTAMP:20260422T183839
CREATED:20250304T112138Z
LAST-MODIFIED:20250304T112139Z
UID:10001897-1742119200-1742148000@palaceofvarna.com
SUMMARY:СВЕТОВНАТА ИЗЛОЖБА НА КОТКИ
DESCRIPTION:СВЕТОВНАТА ИЗЛОЖБА НА КОТКИ Е НАЙ-ГОЛЯМОТО И НАЙ-ЗНАЧИМОТО СЪБИТИЕ ВЪВ ФЕЛИНОЛОГИЯТА ЗА ГОДИНАТА.\n15-16 Maрт 2025 г \nСкъпи приятели! \nИмаме удоволствието да Ви информираме за Световна изложба на котки в България. Изложбата ще се проведе по правилата на Световната федерация на котките WCF. Изложението ще се проведе на 15 и 16 Март в Двореца на културата и спорта. \nВ огромна зала под един покрив ще се съберат победители в множество международни конкурси и изложби. Котки и котенца от различни породи и цветове\, от водещи развъдчици от цял свят. Очаква Ви интересно и ярко пътешествие в чудния свят на котките\, забавна шоу – програма\, конкурси и приятни изненади ! \nПрограма на изложбата: \n\nУвлекателно представяне на участниците;\nПредставяне на редки и екзотични породи котки;\nМногобройни рингове и шоута;\n\nГоляма селекция и шоу – представяне на котенца от малки породи до брутални гиганти от котешкия свят. \n\nПразнична развлекателна програма за зрителите;\nЗадълбочена екскурзия в породите котки от водещите световни развъдчици;\n\nПрекрасна възможност да намерите ваше пухкаво съкровище! \nПо време на ринговете и изложенията за породи посетителите ще могат да се запознаят с котки от редки породи и признати звезди от света на котките\, да научат много интересни факти за котките. \nАко отдавна мечтаете за коте или просто мислите да си вземете космат приятел\, тогава няма да намерите по-добро място от това! \nНа изложбата всеки ще има възможност да общува с професионални развъдници и да се запознае с породата котки\, която харесва. \nИ\, разбира се\, да изпълните заветно желание – да намерите котето на мечтите си. \nВ изложението ще участват и представители на различни фирми\, произвеждащи котешки храни и различни продукти за котки. Можете да закупите техните продукти на специални цени за изложители и посетители на нашето изложение!! \nОчакваме ви на 15-16 Март 2025 г. на адрес:\nбул. Варна. „Княз Борис I-ви“ 115\, 9002 Варна Център\, България \nПрограмата на изложбата: \n\nШоу на дългокосмести котки\,\nМонопородно шоу на бенгалски котки\,\nШоу на невероятни редки породи\,\nШоу на най-големите котки – мейн куун както и много други рингове и състезания.\n\nЗа регистрация за изложбата \nhttps://www.wcfcatonline.com/?fbclid=IwAR1MDi7JYrGvzR5406meQkMUMazhhiFVFVNnjHrSDVokRcbijArXJNYwOf0 \n 
URL:https://palaceofvarna.com/event/svetovnata-izlozhba-na-kotki-2/
LOCATION:Дворец на културата и спорта – Варна\, Дворец на културата и спорта - Варна\, Варна\, Bulgaria
CATEGORIES:Дворец на културата и спорта,Изложения
ATTACH;FMTTYPE=image/jpeg:https://palaceofvarna.com/wp-content/uploads/2025/03/izlovba-kotki.jpg
END:VEVENT
END:VCALENDAR