BEGIN:VCALENDAR
VERSION:2.0
PRODID:-//Дворец на културата и спорта - Варна - ECPv6.15.9//NONSGML v1.0//EN
CALSCALE:GREGORIAN
METHOD:PUBLISH
X-ORIGINAL-URL:https://palaceofvarna.com
X-WR-CALDESC:Събития за Дворец на културата и спорта - Варна
REFRESH-INTERVAL;VALUE=DURATION:PT1H
X-Robots-Tag:noindex
X-PUBLISHED-TTL:PT1H
BEGIN:VTIMEZONE
TZID:Europe/Helsinki
BEGIN:DAYLIGHT
TZOFFSETFROM:+0200
TZOFFSETTO:+0300
TZNAME:EEST
DTSTART:20250330T010000
END:DAYLIGHT
BEGIN:STANDARD
TZOFFSETFROM:+0300
TZOFFSETTO:+0200
TZNAME:EET
DTSTART:20251026T010000
END:STANDARD
BEGIN:DAYLIGHT
TZOFFSETFROM:+0200
TZOFFSETTO:+0300
TZNAME:EEST
DTSTART:20260329T010000
END:DAYLIGHT
BEGIN:STANDARD
TZOFFSETFROM:+0300
TZOFFSETTO:+0200
TZNAME:EET
DTSTART:20261025T010000
END:STANDARD
BEGIN:DAYLIGHT
TZOFFSETFROM:+0200
TZOFFSETTO:+0300
TZNAME:EEST
DTSTART:20270328T010000
END:DAYLIGHT
BEGIN:STANDARD
TZOFFSETFROM:+0300
TZOFFSETTO:+0200
TZNAME:EET
DTSTART:20271031T010000
END:STANDARD
END:VTIMEZONE
BEGIN:VEVENT
DTSTART;TZID=Europe/Helsinki:20260308T180000
DTEND;TZID=Europe/Helsinki:20260308T180000
DTSTAMP:20260424T190604
CREATED:20260305T105027Z
LAST-MODIFIED:20260305T105305Z
UID:10001994-1772992800-1772992800@palaceofvarna.com
SUMMARY:За вас жени - осем целувки
DESCRIPTION:Театър „Българан“ представя: \nОСЕМ ЦЕЛУВКИ\nПразничен шоу спектакъл\, посветен на 8 март – с много хумор\, музика и настроение. На сцената ще видите Димитър Туджаров – Шкумбата\, Панайот Панайотов\, Тончо Токмакчиев\, Георги Мамалев\, виртуозния Нешко Нешев – Кралят на кларинета\, както и Венсан. Всичко това – под майсторското ръководство на Мария Статулова. \nТова е тържествен „мъжки“ спектакъл\, създаден като поклон към жените – онези\, които често са една крачка пред нас: по-мъдри\, по-силни и по-сърцати. Истината е проста: жените не избират мъж само заради хубави крака… но мъжете винаги имат причини да са благодарни\, че ги търпят. И точно заради това този празник е за тях. \nУважаеми господа\, нека на 8 март отделим време\, за да кажем „благодаря“ на майките\, бабите\, сестрите и любимите си жени – за търпението\, за прошката и за това\, че ни дават шанс да ставаме по-добри. А най-хубавото „благодаря“ понякога е преживяване – смях\, музика\, танци и споделени моменти. \nЗаповядайте в Двореца на културата и спорта\, за да се посмеем\, да попеем\, да се раздвижим и да празнуваме заедно. \nОчакваме ви!
URL:https://palaceofvarna.com/event/za-vas-zheni-osem-tseluvki/
LOCATION:Дворец на културата и спорта – Варна\, Дворец на културата и спорта - Варна\, Варна\, Bulgaria
CATEGORIES:Дворец на културата и спорта,Културни събития
ATTACH;FMTTYPE=image/jpeg:https://palaceofvarna.com/wp-content/uploads/2026/03/osem-celuvki.jpg
END:VEVENT
BEGIN:VEVENT
DTSTART;TZID=Europe/Helsinki:20260313T200000
DTEND;TZID=Europe/Helsinki:20260313T200000
DTSTAMP:20260424T190604
CREATED:20260305T110153Z
LAST-MODIFIED:20260305T110253Z
UID:10001995-1773432000-1773432000@palaceofvarna.com
SUMMARY:Концерт на Цеца Величкович
DESCRIPTION:Балканската икона Цеца Величкович идва във Варна!\nВарна се готви за истински музикален празник! Цеца Величкович пристига с концерт\, изпълнен с енергия\, емоция и песни\, които всички знаем наизуст. \n13 март | 20:00 ч. | ДКС – Варна
URL:https://palaceofvarna.com/event/kontsert-na-tsetsa-velichkovich/
LOCATION:Дворец на културата и спорта – Варна\, Дворец на културата и спорта - Варна\, Варна\, Bulgaria
CATEGORIES:Дворец на културата и спорта,Културни събития
ATTACH;FMTTYPE=image/jpeg:https://palaceofvarna.com/wp-content/uploads/2026/03/ceca-2.jpg
END:VEVENT
BEGIN:VEVENT
DTSTART;TZID=Europe/Helsinki:20260320T223000
DTEND;TZID=Europe/Helsinki:20260320T223000
DTSTAMP:20260424T190604
CREATED:20260305T111127Z
LAST-MODIFIED:20260305T111211Z
UID:10001996-1774045800-1774045800@palaceofvarna.com
SUMMARY:3 YEARS SAKE
DESCRIPTION:3 YEARS OF HISTORY. 3 YEARS THAT MEAN EVERYTHING20.03. SAKÉ 3 YEARS  \nНа 20 март отваряме нова глава за SAKÉ – година\, която няма да прилича на никоя друга. Година\, в която ще вдигнем летвата над всичко\, което сте виждали досега и ще покажем в пълен мащаб какво е SAKÉ. \nВ тази дата Дворецът на културата и спорта ще стане пулсът на Варна – воден от вашата енергия\, която вече 3 години ни движи напред и ни кара да мечтаем по-смело. \nС огромно вълнение обявяваме SKREAM за хедлайнер на 3 YEARS SAKÉ \nИме\, което стои в основата на цяла ера в електронната музика – артист\, наричан „бащата“ на жанр и неизменна част от най-високото ниво в сцената през годините. \nАко сте попадали на легендарните му участия и записи – от Circoloco и Boiler Room до Kappa Futur Festival\, рамо до рамо с имена като Seth Troxler и Dom Dolla – знаете\, че това не е просто сет\, а момент\, който се помни дълго. \nПригответе се за преживяване\, което ще надмине по мащаб и заряд всичко досега – дори нощта\, с която отпразнувахме 2 YEARS SAKÉ и поставихме града на картата на електронната сцена. \n3 YEARS SAKÉ идва\, за да се превърне в най-голямата нощ в историята на Варна.
URL:https://palaceofvarna.com/event/3-years-sake/
LOCATION:Дворец на културата и спорта – Варна\, Дворец на културата и спорта - Варна\, Варна\, Bulgaria
CATEGORIES:Дворец на културата и спорта,Културни събития
ATTACH;FMTTYPE=image/jpeg:https://palaceofvarna.com/wp-content/uploads/2026/03/sake.jpg
END:VEVENT
BEGIN:VEVENT
DTSTART;TZID=Europe/Helsinki:20260321T080000
DTEND;TZID=Europe/Helsinki:20260322T170000
DTSTAMP:20260424T190604
CREATED:20260305T112255Z
LAST-MODIFIED:20260305T112539Z
UID:10001997-1774080000-1774198800@palaceofvarna.com
SUMMARY:Изложба на котки
DESCRIPTION:Mеждународнa ИЗЛОЖБА НА КОТКИ Е НАЙ-ГОЛЯМОТО И НАЙ-ЗНАЧИМОТО СЪБИТИЕ ВЪВ ФЕЛИНОЛОГИЯТА ЗА ГОДИНАТА.\n21-22 Maрт 2026 г\nСкъпи приятели! \nИмаме удоволствието да Ви информираме за  изложба на котки в България. Изложбата ще се проведе по правилата на Световната федерация на котките WCF.\nИзложението ще се проведе на 21 и 122 Март в Двореца на културата и спорта. \nВ огромна зала под един покрив ще се съберат победители в множество международни конкурси и изложби. Котки и котенца от различни породи и цветове\, от водещи развъдчици от цял свят.\nОчаква Ви интересно и ярко пътешествие в чудния свят на котките\, забавна шоу – програма\, конкурси и приятни изненади !\nПрограма на изложбата:\nУвлекателно представяне на участниците;\nПредставяне на редки и екзотични породи котки;\nМногобройни рингове и шоута; \nГоляма селекция и шоу – представяне на котенца от малки породи до брутални гиганти от котешкия свят.\nПразнична развлекателна програма за зрителите;\nЗадълбочена екскурзия в породите котки от водещите световни развъдчици;\nПрекрасна възможност да намерите ваше пухкаво съкровище!\nПо време на ринговете и изложенията за породи посетителите ще могат да се запознаят с котки от редки породи и признати звезди от света на котките\, да научат много интересни факти за котките.\nАко отдавна мечтаете за коте или просто мислите да си вземете космат приятел\, тогава няма да намерите по-добро място от това!\nНа изложбата всеки ще има възможност да общува с професионални развъдници и да се запознае с породата котки\, която харесва.\nИ\, разбира се\, да изпълните заветно желание – да намерите котето на мечтите си.\nВ изложението ще участват и представители на различни фирми\, произвеждащи котешки храни и различни продукти за котки.\nМожете да закупите техните продукти на специални цени за изложители и посетители на нашето изложение!! \nОчакваме ви на 21-22 Март 2026 г. на адрес: бул. Варна. „Княз Борис I-ви“ 115\, 9002 Варна Център\, България \nПрограмата на изложбата:\nШоу на дългокосмести котки\,\nшоу на невероятни редки породи\,\nШоу на най-големите котки – мейн куун както и много други рингове и състезания.\nЗа регистрация за изложбата   \nhttps://www.wcfcatonline.com/
URL:https://palaceofvarna.com/event/izlozhba-na-kotki/
LOCATION:Дворец на културата и спорта – Варна\, Дворец на културата и спорта - Варна\, Варна\, Bulgaria
CATEGORIES:Дворец на културата и спорта,Изложения
ATTACH;FMTTYPE=image/jpeg:https://palaceofvarna.com/wp-content/uploads/2026/03/izlojba-na-kotki.jpg
END:VEVENT
BEGIN:VEVENT
DTSTART;TZID=Europe/Helsinki:20260322T200000
DTEND;TZID=Europe/Helsinki:20260322T200000
DTSTAMP:20260424T190604
CREATED:20251210T092439Z
LAST-MODIFIED:20260305T111540Z
UID:10001989-1774209600-1774209600@palaceofvarna.com
SUMMARY:DIRE STRAITS
DESCRIPTION:DIRE STRAITS LEGACY – последна среща с българската публика през март 2026!\nРок историята отново ще оживее във Варна! На 22 март 2026 г. легендарният проект Dire Straits Legacy пристига в Зала Конгресна – ДКС\, за да подари на феновете вечер\, изпълнена с носталгия\, невероятни изпълнения и звук\, който е белязал световната музика. \nПубликата ще се наслади на незабравими класики като “Sultans of Swing”\, “Money for Nothing”\, “Six Blade Knife” и още много песни\, превърнали групата в емблема на световния рок. Това ще бъде концерт\, който носи духа на оригиналните Dire Straits – емоция\, която се преживява само на живо. \nГрупата започва своя път през 1977 г. и само година по-късно се превръща в международна сензация с хита “Sultans of Swing”. Историята им се изстрелва още по-високо през 1985 г.\, когато албумът “Brothers in Arms” достига над 30 милиона продадени копия – постижение\, което го поставя сред най-успешните британски албуми за всички времена. \nСега българските фенове имат рядката възможност да чуят на живо музикантите\, които са били част от оригиналната формация и са създали магията на Dire Straits през годините. Този концерт е истински подарък за всички\, които обичат неподправения рок звук\, виртуозните китарни линии и емоцията от една вечна музикална епоха. \nОчакват ни специални моменти\, премиум изпълнения и шоу\, което няма аналог на българска сцена.
URL:https://palaceofvarna.com/event/dire-straits/
LOCATION:Дворец на културата и спорта – Варна\, Дворец на културата и спорта - Варна\, Варна\, Bulgaria
CATEGORIES:Дворец на културата и спорта,Културни събития
ATTACH;FMTTYPE=image/jpeg:https://palaceofvarna.com/wp-content/uploads/2025/12/dire-straits-1.jpg
END:VEVENT
END:VCALENDAR