BEGIN:VCALENDAR
VERSION:2.0
PRODID:-//Дворец на културата и спорта - Варна - ECPv6.15.9//NONSGML v1.0//EN
CALSCALE:GREGORIAN
METHOD:PUBLISH
X-WR-CALNAME:Дворец на културата и спорта - Варна
X-ORIGINAL-URL:https://palaceofvarna.com
X-WR-CALDESC:Събития за Дворец на културата и спорта - Варна
REFRESH-INTERVAL;VALUE=DURATION:PT1H
X-Robots-Tag:noindex
X-PUBLISHED-TTL:PT1H
BEGIN:VTIMEZONE
TZID:Europe/Helsinki
BEGIN:DAYLIGHT
TZOFFSETFROM:+0200
TZOFFSETTO:+0300
TZNAME:EEST
DTSTART:20250330T010000
END:DAYLIGHT
BEGIN:STANDARD
TZOFFSETFROM:+0300
TZOFFSETTO:+0200
TZNAME:EET
DTSTART:20251026T010000
END:STANDARD
BEGIN:DAYLIGHT
TZOFFSETFROM:+0200
TZOFFSETTO:+0300
TZNAME:EEST
DTSTART:20260329T010000
END:DAYLIGHT
BEGIN:STANDARD
TZOFFSETFROM:+0300
TZOFFSETTO:+0200
TZNAME:EET
DTSTART:20261025T010000
END:STANDARD
BEGIN:DAYLIGHT
TZOFFSETFROM:+0200
TZOFFSETTO:+0300
TZNAME:EEST
DTSTART:20270328T010000
END:DAYLIGHT
BEGIN:STANDARD
TZOFFSETFROM:+0300
TZOFFSETTO:+0200
TZNAME:EET
DTSTART:20271031T010000
END:STANDARD
END:VTIMEZONE
BEGIN:VEVENT
DTSTART;TZID=Europe/Helsinki:20260616T210000
DTEND;TZID=Europe/Helsinki:20260616T210000
DTSTAMP:20260424T165540
CREATED:20260406T092731Z
LAST-MODIFIED:20260406T092731Z
UID:10002009-1781643600-1781643600@palaceofvarna.com
SUMMARY:Дон Карлос
DESCRIPTION:Премиера на „Дон Карлос“\nОпера от Джузепе Верди \nДиригент: Григор ПаликаровРежисьор: Нина НайденоваСценография: Борис СтойновКостюми: Цветанка Петкова-СтойноваХудожествено осветление: Валентин Андонов \nВ ролите:Филип II – Деян Вачков – 25 години на сценаДон Карлос – Валерий Георгиев – 50-годишнинаКралица Елизабет – Йоана ЖелезчеваПринцеса Еболи – Мария РадоеваМаркиз Поза – Свилен Николов \nС участието на оркестъра и хора на Държавна опера Варна. \nXVII издание на Опера в Летния театър започва с една от най-внушителните творби в наследството на Джузепе Верди – „Дон Карлос“. Вдъхновена от исторически събития и драмата на Фридрих Шилер\, операта разгръща мащабен музикален и сценичен свят\, в който се преплитат власт\, дълг\, любов\, саможертва и вътрешни конфликти. \nВ режисьорския прочит на Нина Найденова драматичният сблъсък между личните чувства и политическата необходимост е изведен с особена сила\, а под палката на маестро Григор Паликаров музиката на Верди звучи с дълбочина\, емоционален заряд и внушителен размах. Постановката създава силно въздействаща сценична среда\, в която всяка съдба носи своята трагична тежест. \nС този спектакъл Държавна опера Варна отбелязва и 25 години на сцена на баса Деян Вачков\, който влиза в ролята на Филип II. В солистичния състав участват още Валерий Георгиев\, Йоана Железчева\, Мария Радоева и Свилен Николов\, които изграждат сложните образи с убедително сценично присъствие и високо вокално майсторство. Така премиерата се превръща в ярко и запомнящо се начало на фестивалното лято. \n„Дон Карлос“ заема особено място в творческия път на Верди. Композиторът неведнъж се обръща към драматургията на Фридрих Шилер\, намирайки в нея силни конфликти\, морални въпроси и голямо човешко напрежение. Именно по трагедия на Шилер през 1866 година той създава тази монументална музикална драма по поръчка на Парижката Гранд опера. \nЛибретото\, написано от Жозеф Мери и Камий дю Локл\, следва традицията на френската голяма опера с нейните широки сценични форми\, мащабни ансамбли и балетни епизоди. По-късно Верди създава по-кратка редакция за Миланската Скала\, която и днес остава сред най-поставяните версии на произведението. Независимо от различните редакции\, „Дон Карлос“ продължава да вълнува с изключителната си драматична сила\, психологическа дълбочина и внушителен музикален език.
URL:https://palaceofvarna.com/event/don-karlos/
LOCATION:Летен Театър – Варна\, Морска градина\, Варна\, Bulgaria
CATEGORIES:Културни събития,Летен театър
ATTACH;FMTTYPE=image/jpeg:https://palaceofvarna.com/wp-content/uploads/2026/04/don-karlos.jpg
END:VEVENT
BEGIN:VEVENT
DTSTART;TZID=Europe/Helsinki:20260626T210000
DTEND;TZID=Europe/Helsinki:20260626T210000
DTSTAMP:20260424T165540
CREATED:20260406T045506Z
LAST-MODIFIED:20260406T045506Z
UID:10001999-1782507600-1782507600@palaceofvarna.com
SUMMARY:Спартак
DESCRIPTION:Премиера на „Спартак“\nБалет по музика на Арам ХачатурянХореография: Сергей БобровСценография и костюми: Ася Стоименова \nПостановката е на Балета на Държавна опера Варна и се реализира като съвместен проект между Държавна опера Варна и Международния музикален фестивал „Варненско лято“. \n„Спартак“ пресъздава драматичната история на въстанието на гладиаторите и поробените\, повеждани от тракиеца Спартак\, както и трагичния му сблъсък с армията на римския пълководец Крас. Сюжетът стъпва върху реални събития от историята на Древен Рим през I век пр.н.е. \nВ тази мащабна балетна творба Спартак е изграден като силен\, достоен и свободолюбив герой\, за когото стремежът към свобода е водеща сила. Срещу него стои Крас – властен\, безмилостен и обсебен от желанието за надмощие и слава. Двамата се превръщат в символи на две противоположни начала – на човешкото достойнство и на жаждата за власт. \nОсобено място в спектакъла заемат и образите на Фригия – вярната спътница на Спартак\, и Егина – съблазнителната и опасна съюзница на Крас\, които допълват емоционалната и драматична сила на действието.
URL:https://palaceofvarna.com/event/spartak/
LOCATION:Летен Театър – Варна\, Морска градина\, Варна\, Bulgaria
CATEGORIES:Културни събития,Летен театър
ATTACH;FMTTYPE=image/jpeg:https://palaceofvarna.com/wp-content/uploads/2026/04/spartak.jpg
END:VEVENT
END:VCALENDAR